BEGIN:VCALENDAR
VERSION:2.0
PRODID:-//Ivanhoe Park Brewing Company - Orlando, Florida - ECPv6.15.18//NONSGML v1.0//EN
CALSCALE:GREGORIAN
METHOD:PUBLISH
X-WR-CALNAME:Ivanhoe Park Brewing Company - Orlando, Florida
X-ORIGINAL-URL:https://ivanhoeparkbrewing.com
X-WR-CALDESC:Events for Ivanhoe Park Brewing Company - Orlando, Florida
REFRESH-INTERVAL;VALUE=DURATION:PT1H
X-Robots-Tag:noindex
X-PUBLISHED-TTL:PT1H
BEGIN:VTIMEZONE
TZID:America/New_York
BEGIN:DAYLIGHT
TZOFFSETFROM:-0500
TZOFFSETTO:-0400
TZNAME:EDT
DTSTART:20230312T070000
END:DAYLIGHT
BEGIN:STANDARD
TZOFFSETFROM:-0400
TZOFFSETTO:-0500
TZNAME:EST
DTSTART:20231105T060000
END:STANDARD
BEGIN:DAYLIGHT
TZOFFSETFROM:-0500
TZOFFSETTO:-0400
TZNAME:EDT
DTSTART:20240310T070000
END:DAYLIGHT
BEGIN:STANDARD
TZOFFSETFROM:-0400
TZOFFSETTO:-0500
TZNAME:EST
DTSTART:20241103T060000
END:STANDARD
BEGIN:DAYLIGHT
TZOFFSETFROM:-0500
TZOFFSETTO:-0400
TZNAME:EDT
DTSTART:20250309T070000
END:DAYLIGHT
BEGIN:STANDARD
TZOFFSETFROM:-0400
TZOFFSETTO:-0500
TZNAME:EST
DTSTART:20251102T060000
END:STANDARD
END:VTIMEZONE
BEGIN:VEVENT
DTSTART;VALUE=DATE:20240913
DTEND;VALUE=DATE:20240914
DTSTAMP:20260424T045133
CREATED:20240816T182251Z
LAST-MODIFIED:20240913T212249Z
UID:24718-1726185600-1726271999@ivanhoeparkbrewing.com
SUMMARY:Food Truck
DESCRIPTION:
URL:https://ivanhoeparkbrewing.com/event/food-truck-2/
END:VEVENT
BEGIN:VEVENT
DTSTART;TZID=America/New_York:20240913T160000
DTEND;TZID=America/New_York:20240913T170000
DTSTAMP:20260424T045133
CREATED:20240613T164042Z
LAST-MODIFIED:20240912T225250Z
UID:24160-1726243200-1726246800@ivanhoeparkbrewing.com
SUMMARY:Happier Hour
DESCRIPTION:
URL:https://ivanhoeparkbrewing.com/event/happier-hour-254/
END:VEVENT
END:VCALENDAR