BEGIN:VCALENDAR
VERSION:2.0
PRODID:-//Ivanhoe Park Brewing Company - Orlando, Florida - ECPv6.15.18//NONSGML v1.0//EN
CALSCALE:GREGORIAN
METHOD:PUBLISH
X-WR-CALNAME:Ivanhoe Park Brewing Company - Orlando, Florida
X-ORIGINAL-URL:https://ivanhoeparkbrewing.com
X-WR-CALDESC:Events for Ivanhoe Park Brewing Company - Orlando, Florida
REFRESH-INTERVAL;VALUE=DURATION:PT1H
X-Robots-Tag:noindex
X-PUBLISHED-TTL:PT1H
BEGIN:VTIMEZONE
TZID:America/New_York
BEGIN:DAYLIGHT
TZOFFSETFROM:-0500
TZOFFSETTO:-0400
TZNAME:EDT
DTSTART:20230312T070000
END:DAYLIGHT
BEGIN:STANDARD
TZOFFSETFROM:-0400
TZOFFSETTO:-0500
TZNAME:EST
DTSTART:20231105T060000
END:STANDARD
BEGIN:DAYLIGHT
TZOFFSETFROM:-0500
TZOFFSETTO:-0400
TZNAME:EDT
DTSTART:20240310T070000
END:DAYLIGHT
BEGIN:STANDARD
TZOFFSETFROM:-0400
TZOFFSETTO:-0500
TZNAME:EST
DTSTART:20241103T060000
END:STANDARD
BEGIN:DAYLIGHT
TZOFFSETFROM:-0500
TZOFFSETTO:-0400
TZNAME:EDT
DTSTART:20250309T070000
END:DAYLIGHT
BEGIN:STANDARD
TZOFFSETFROM:-0400
TZOFFSETTO:-0500
TZNAME:EST
DTSTART:20251102T060000
END:STANDARD
END:VTIMEZONE
BEGIN:VEVENT
DTSTART;TZID=America/New_York:20241221T120000
DTEND;TZID=America/New_York:20241221T160000
DTSTAMP:20260423T060546
CREATED:20241120T072557Z
LAST-MODIFIED:20241221T095553Z
UID:25273-1734782400-1734796800@ivanhoeparkbrewing.com
SUMMARY:Tru Nature’s Bazaar
DESCRIPTION:
URL:https://ivanhoeparkbrewing.com/event/tru-natures-bazaar/
END:VEVENT
BEGIN:VEVENT
DTSTART;TZID=America/New_York:20241221T180000
DTEND;TZID=America/New_York:20241221T200000
DTSTAMP:20260423T060546
CREATED:20241114T072556Z
LAST-MODIFIED:20241221T095553Z
UID:25244-1734804000-1734811200@ivanhoeparkbrewing.com
SUMMARY:Bonsai and Brews
DESCRIPTION:
URL:https://ivanhoeparkbrewing.com/event/bonsai-and-brews-3/
END:VEVENT
END:VCALENDAR