BEGIN:VCALENDAR
VERSION:2.0
PRODID:-//Ivanhoe Park Brewing Company - Orlando, Florida - ECPv6.15.18//NONSGML v1.0//EN
CALSCALE:GREGORIAN
METHOD:PUBLISH
X-WR-CALNAME:Ivanhoe Park Brewing Company - Orlando, Florida
X-ORIGINAL-URL:https://ivanhoeparkbrewing.com
X-WR-CALDESC:Events for Ivanhoe Park Brewing Company - Orlando, Florida
REFRESH-INTERVAL;VALUE=DURATION:PT1H
X-Robots-Tag:noindex
X-PUBLISHED-TTL:PT1H
BEGIN:VTIMEZONE
TZID:America/New_York
BEGIN:DAYLIGHT
TZOFFSETFROM:-0500
TZOFFSETTO:-0400
TZNAME:EDT
DTSTART:20240310T070000
END:DAYLIGHT
BEGIN:STANDARD
TZOFFSETFROM:-0400
TZOFFSETTO:-0500
TZNAME:EST
DTSTART:20241103T060000
END:STANDARD
BEGIN:DAYLIGHT
TZOFFSETFROM:-0500
TZOFFSETTO:-0400
TZNAME:EDT
DTSTART:20250309T070000
END:DAYLIGHT
BEGIN:STANDARD
TZOFFSETFROM:-0400
TZOFFSETTO:-0500
TZNAME:EST
DTSTART:20251102T060000
END:STANDARD
BEGIN:DAYLIGHT
TZOFFSETFROM:-0500
TZOFFSETTO:-0400
TZNAME:EDT
DTSTART:20260308T070000
END:DAYLIGHT
BEGIN:STANDARD
TZOFFSETFROM:-0400
TZOFFSETTO:-0500
TZNAME:EST
DTSTART:20261101T060000
END:STANDARD
END:VTIMEZONE
BEGIN:VEVENT
DTSTART;TZID=America/New_York:20250614T120000
DTEND;TZID=America/New_York:20250614T160000
DTSTAMP:20260421T103408
CREATED:20250509T185600Z
LAST-MODIFIED:20250518T192619Z
UID:26200-1749902400-1749916800@ivanhoeparkbrewing.com
SUMMARY:Luxe Creations Market
DESCRIPTION:
URL:https://ivanhoeparkbrewing.com/event/luxe-creations-market/
END:VEVENT
BEGIN:VEVENT
DTSTART;TZID=America/New_York:20250614T120000
DTEND;TZID=America/New_York:20250614T160000
DTSTAMP:20260421T103408
CREATED:20250523T155320Z
LAST-MODIFIED:20250614T165554Z
UID:26339-1749902400-1749916800@ivanhoeparkbrewing.com
SUMMARY:Crispy Boi Beer Fest
DESCRIPTION:
URL:https://ivanhoeparkbrewing.com/event/crispy-boi-beer-fest/
CATEGORIES:Lager House
END:VEVENT
BEGIN:VEVENT
DTSTART;TZID=America/New_York:20250614T120000
DTEND;TZID=America/New_York:20250614T160000
DTSTAMP:20260421T103408
CREATED:20250523T155320Z
LAST-MODIFIED:20250523T155320Z
UID:26340-1749902400-1749916800@ivanhoeparkbrewing.com
SUMMARY:Crispy Boi Beer Fest
DESCRIPTION:
URL:https://ivanhoeparkbrewing.com/event/crispy-boi-beer-fest-2/
CATEGORIES:Lager House
END:VEVENT
BEGIN:VEVENT
DTSTART;TZID=America/New_York:20250614T180000
DTEND;TZID=America/New_York:20250614T220000
DTSTAMP:20260421T103408
CREATED:20250523T155320Z
LAST-MODIFIED:20250614T165554Z
UID:26341-1749924000-1749938400@ivanhoeparkbrewing.com
SUMMARY:Stray Kids at Camping World Stadium
DESCRIPTION:
URL:https://ivanhoeparkbrewing.com/event/stray-kids-at-camping-world-stadium/
CATEGORIES:Lager House
END:VEVENT
BEGIN:VEVENT
DTSTART;TZID=America/New_York:20250614T180000
DTEND;TZID=America/New_York:20250614T220000
DTSTAMP:20260421T103408
CREATED:20250523T155320Z
LAST-MODIFIED:20250523T155320Z
UID:26342-1749924000-1749938400@ivanhoeparkbrewing.com
SUMMARY:Stray Kids at Camping World Stadium
DESCRIPTION:
URL:https://ivanhoeparkbrewing.com/event/stray-kids-at-camping-world-stadium-2/
CATEGORIES:Lager House
END:VEVENT
END:VCALENDAR