BEGIN:VCALENDAR
VERSION:2.0
PRODID:-//Ivanhoe Park Brewing Company - Orlando, Florida - ECPv6.15.18//NONSGML v1.0//EN
CALSCALE:GREGORIAN
METHOD:PUBLISH
X-ORIGINAL-URL:https://ivanhoeparkbrewing.com
X-WR-CALDESC:Events for Ivanhoe Park Brewing Company - Orlando, Florida
REFRESH-INTERVAL;VALUE=DURATION:PT1H
X-Robots-Tag:noindex
X-PUBLISHED-TTL:PT1H
BEGIN:VTIMEZONE
TZID:America/New_York
BEGIN:DAYLIGHT
TZOFFSETFROM:-0500
TZOFFSETTO:-0400
TZNAME:EDT
DTSTART:20250309T070000
END:DAYLIGHT
BEGIN:STANDARD
TZOFFSETFROM:-0400
TZOFFSETTO:-0500
TZNAME:EST
DTSTART:20251102T060000
END:STANDARD
BEGIN:DAYLIGHT
TZOFFSETFROM:-0500
TZOFFSETTO:-0400
TZNAME:EDT
DTSTART:20260308T070000
END:DAYLIGHT
BEGIN:STANDARD
TZOFFSETFROM:-0400
TZOFFSETTO:-0500
TZNAME:EST
DTSTART:20261101T060000
END:STANDARD
BEGIN:DAYLIGHT
TZOFFSETFROM:-0500
TZOFFSETTO:-0400
TZNAME:EDT
DTSTART:20270314T070000
END:DAYLIGHT
BEGIN:STANDARD
TZOFFSETFROM:-0400
TZOFFSETTO:-0500
TZNAME:EST
DTSTART:20271107T060000
END:STANDARD
END:VTIMEZONE
BEGIN:VEVENT
DTSTART;VALUE=DATE:20260321
DTEND;VALUE=DATE:20260322
DTSTAMP:20260423T060842
CREATED:20260121T205620Z
LAST-MODIFIED:20260321T041048Z
UID:27768-1774051200-1774137599@ivanhoeparkbrewing.com
SUMMARY:Pink Salamander
DESCRIPTION:
URL:https://ivanhoeparkbrewing.com/event/pink-salamander-8/
CATEGORIES:Ivanhoe Park Brewing
END:VEVENT
BEGIN:VEVENT
DTSTART;TZID=America/New_York:20260321T110000
DTEND;TZID=America/New_York:20260321T120000
DTSTAMP:20260423T060842
CREATED:20260313T062640Z
LAST-MODIFIED:20260313T062640Z
UID:28151-1774090800-1774094400@ivanhoeparkbrewing.com
SUMMARY:Beer Chi w/ Super Dave
DESCRIPTION:
URL:https://ivanhoeparkbrewing.com/event/beer-chi-w-super-dave/
CATEGORIES:Ivanhoe Park Brewing
END:VEVENT
BEGIN:VEVENT
DTSTART;TZID=America/New_York:20260321T130000
DTEND;TZID=America/New_York:20260321T140000
DTSTAMP:20260423T060842
CREATED:20260313T062640Z
LAST-MODIFIED:20260321T065548Z
UID:28152-1774098000-1774101600@ivanhoeparkbrewing.com
SUMMARY:Beer Chi w/ Super Dave
DESCRIPTION:
URL:https://ivanhoeparkbrewing.com/event/beer-chi-w-super-dave-2/
CATEGORIES:Ivanhoe Park Brewing
END:VEVENT
BEGIN:VEVENT
DTSTART;TZID=America/New_York:20260321T170000
DTEND;TZID=America/New_York:20260322T000000
DTSTAMP:20260423T060842
CREATED:20260314T235642Z
LAST-MODIFIED:20260321T041049Z
UID:28161-1774112400-1774137600@ivanhoeparkbrewing.com
SUMMARY:El Popodoro
DESCRIPTION:
URL:https://ivanhoeparkbrewing.com/event/el-popodoro/
CATEGORIES:Ivanhoe Park Brewing
END:VEVENT
END:VCALENDAR